BEGIN:VCALENDAR
VERSION:2.0
PRODID:-//Chancenreich Herford - ECPv6.8.2.1//NONSGML v1.0//EN
CALSCALE:GREGORIAN
METHOD:PUBLISH
X-WR-CALNAME:Chancenreich Herford
X-ORIGINAL-URL:https://www.chancenreich-herford.de
X-WR-CALDESC:Veranstaltungen für Chancenreich Herford
REFRESH-INTERVAL;VALUE=DURATION:PT1H
X-Robots-Tag:noindex
X-PUBLISHED-TTL:PT1H
BEGIN:VTIMEZONE
TZID:UTC
BEGIN:STANDARD
TZOFFSETFROM:+0000
TZOFFSETTO:+0000
TZNAME:UTC
DTSTART:20260101T000000
END:STANDARD
END:VTIMEZONE
BEGIN:VEVENT
DTSTART;TZID=UTC:20260909T104500
DTEND;TZID=UTC:20260909T121500
DTSTAMP:20260423T085049
CREATED:20260311T140649Z
LAST-MODIFIED:20260311T140649Z
UID:10001724-1788950700-1788956100@www.chancenreich-herford.de
SUMMARY:26.12.370 PEKiP - Spiel- und Bewegungsanregungen für Babys im 1. Lebensjahr
DESCRIPTION:Das Prager-Eltern-Kind-Programm (PEKiP) ist ein Konzept für Eltern mit Kindern im ersten Lebensjahr. PEKiP begleitet Mütter / Väter und ihr Baby mit Spiel-\, Bewegungs- und Sinnesanregungen. So wird das Kind dabei unterstützt\, sich seinen Fähigkeiten entsprechend zu entwickeln. \nIn der PEKiP-Gruppe erfahren Eltern\, was ihrem Kind Freude macht und guttut. Sie haben Gelegenheit\, Kontakte zu schließen und sich über Fragen\, Probleme und Erfahrungen auszutauschen\, sowie gemeinsame Lösungsmöglichkeiten zu entwickeln. \nUnter Leitung der ausgebildeten PEKiP-Gruppenleiterin treffen sich in der Regel acht Eltern und Babys an einem Termin der Woche in einem hellen\, freundlichen Raum. Der Kurs umfasst 10 Termine. \nDas Alter der Kinder wird bei der Anmeldung berücksichtigt. Bitte ein großes Handtuch / Decke\, Kinderpflegemittel und Windeln mitbringen. \nDie Gruppen werden nach dem Alter der Babys zusammengestellt.  Dabei ist es wichtig\, eine allzu große Altersspanne zu vermeiden.  Deshalb werden alle eingehenden Anmeldungen in einer Interessent*innenliste  gesammelt und so die Kurse altersentsprechend koordiniert. \n  \nAnmeldung:  \nÜber den Link der AWO-Webseite (siehe unten). \nWichtig: \nDer Kurs findet nicht in den Ferien oder an Feiertagen statt und umfasst insgesamt zehn Termine.
URL:https://www.chancenreich-herford.de/veranstaltung/26-12-370-pekip-spiel-und-bewegungsanregungen-fuer-babys-im-1-lebensjahr
LOCATION:AWO Begegnungszentrum Südlengern\, Schimmelkamp 23\, Kirchlengern\, 32278
CATEGORIES:Kurse,Pekip
END:VEVENT
BEGIN:VEVENT
DTSTART;TZID=UTC:20260909T104500
DTEND;TZID=UTC:20260909T121500
DTSTAMP:20260423T085049
CREATED:20260311T145003Z
LAST-MODIFIED:20260311T145003Z
UID:10001732-1788950700-1788956100@www.chancenreich-herford.de
SUMMARY:26.13.350 FuN - Baby
DESCRIPTION:“FuN“ steht für „Familie und Nachbarschaft“. Und FuN-Baby ist der Elternkurs für Mütter oder Väter mit Babys und Kleinkindern bis eineinhalb Jahre. \nAn acht Terminen können Sie ganz praktisch Erfahrungen im Umgang mit Ihrem Kind sammeln. Die Treffen haben eine feste Struktur – zum Programm gehören bei jedem Termin eine Eltern-Kind-Einheit (z. B. Spiele zur Wahrnehmungs- oder Bewegungsförderung) und eine Gesprächsrunde. Zum Kursabschluss findet i.d.R. ein kleiner gemeinsamer Imbiss statt. \nAnmeldung: Über die AWO-Webseite\, bitte Link (siehe unten) anklicken! \nWichtig: \nDer Kurs findet nicht in den Ferien oder an Feiertagen statt und umfasst 8 Termine.
URL:https://www.chancenreich-herford.de/veranstaltung/26-13-350-fun-baby
LOCATION:Türkische Moschee\, Bielefelder Str. 62-64\, Herford\, 32052
CATEGORIES:FuN-Baby,Kurse
END:VEVENT
BEGIN:VEVENT
DTSTART;TZID=UTC:20260910T153000
DTEND;TZID=UTC:20260910T174500
DTSTAMP:20260423T085049
CREATED:20251124T092342Z
LAST-MODIFIED:20251124T092342Z
UID:10001528-1789054200-1789062300@www.chancenreich-herford.de
SUMMARY:26.53.400 Instrumente basteln und musizieren für Eltern und Kind
DESCRIPTION:Kleine Instrumente können Eltern wunderbar mit ihren Kindern gemeinsam bauen. Die Kinder lernen dabei\, wo der Klang herkommt und wie sie ihr eigenes Instrument selber gestalten können. Anschließend wird mit dem Ergebnis musiziert. Unterschiedliche Bewegungslieder runden den gemeinsamen Nachmittag ab. Am Ende des Workshops kann jede Familie ein eigenes\, individuell gestaltetes Instrument mit nach Hause nehmen. Für Eltern mit Kindern ab 2 Jahre. \n  \nAnmeldungen bitte direkt über die AWO Webseite (siehe unten). Bitte bringen Sie den zweiten Gutschein (blau) mit zum Workshop.
URL:https://www.chancenreich-herford.de/veranstaltung/26-53-400-instrumente-basteln-und-musizieren-fuer-eltern-und-kind
LOCATION:Bildungs-Campus\, Mary-Somerville-Boulevard 4\, Herford\, 32049\, Deutschland
CATEGORIES:Workshops
END:VEVENT
BEGIN:VEVENT
DTSTART;TZID=UTC:20260911T090000
DTEND;TZID=UTC:20260911T104500
DTSTAMP:20260423T085049
CREATED:20260311T141312Z
LAST-MODIFIED:20260311T141312Z
UID:10001725-1789117200-1789123500@www.chancenreich-herford.de
SUMMARY:26.12.380 PEKiP - Spiel- und Bewegungsanregungen für Babys im 1. Lebensjahr
DESCRIPTION:Das Prager-Eltern-Kind-Programm (PEKiP) ist ein Konzept für Eltern mit Kindern im ersten Lebensjahr. PEKiP begleitet Mütter / Väter und ihr Baby mit Spiel-\, Bewegungs- und Sinnesanregungen. So wird das Kind dabei unterstützt\, sich seinen Fähigkeiten entsprechend zu entwickeln. \nIn der PEKiP-Gruppe erfahren Eltern\, was ihrem Kind Freude macht und guttut. Sie haben Gelegenheit\, Kontakte zu schließen und sich über Fragen\, Probleme und Erfahrungen auszutauschen\, sowie gemeinsame Lösungsmöglichkeiten zu entwickeln. \nUnter Leitung der ausgebildeten PEKiP-Gruppenleiterin treffen sich in der Regel acht Eltern und Babys an einem Termin der Woche in einem hellen\, freundlichen Raum. Der Kurs umfasst 10 Termine. \nDas Alter der Kinder wird bei der Anmeldung berücksichtigt. Bitte ein großes Handtuch / Decke\, Kinderpflegemittel und Windeln mitbringen. \nDie Gruppen werden nach dem Alter der Babys zusammengestellt.  Dabei ist es wichtig\, eine allzu große Altersspanne zu vermeiden.  Deshalb werden alle eingehenden Anmeldungen in einer Interessent*innenliste  gesammelt und so die Kurse altersentsprechend koordiniert. \n  \nAnmeldung:  \nÜber den Link der AWO-Webseite (siehe unten). \nWichtig: \nDer Kurs findet nicht in den Ferien oder an Feiertagen statt und umfasst insgesamt zehn Termine.
URL:https://www.chancenreich-herford.de/veranstaltung/26-12-380-pekip-spiel-und-bewegungsanregungen-fuer-babys-im-1-lebensjahr
LOCATION:Hebammenpraxis Bad Salzuflen\, Werler Str. 49\, Bad Salzuflen\, 32105
CATEGORIES:Kurse,Pekip
END:VEVENT
BEGIN:VEVENT
DTSTART;TZID=UTC:20260911T110000
DTEND;TZID=UTC:20260911T123000
DTSTAMP:20260423T085049
CREATED:20260311T141733Z
LAST-MODIFIED:20260311T141733Z
UID:10001726-1789124400-1789129800@www.chancenreich-herford.de
SUMMARY:26.12.390 PEKiP - Spiel- und Bewegungsanregungen für Babys im 1. Lebensjahr
DESCRIPTION:Das Prager-Eltern-Kind-Programm (PEKiP) ist ein Konzept für Eltern mit Kindern im ersten Lebensjahr. PEKiP begleitet Mütter / Väter und ihr Baby mit Spiel-\, Bewegungs- und Sinnesanregungen. So wird das Kind dabei unterstützt\, sich seinen Fähigkeiten entsprechend zu entwickeln. \nIn der PEKiP-Gruppe erfahren Eltern\, was ihrem Kind Freude macht und guttut. Sie haben Gelegenheit\, Kontakte zu schließen und sich über Fragen\, Probleme und Erfahrungen auszutauschen\, sowie gemeinsame Lösungsmöglichkeiten zu entwickeln. \nUnter Leitung der ausgebildeten PEKiP-Gruppenleiterin treffen sich in der Regel acht Eltern und Babys an einem Termin der Woche in einem hellen\, freundlichen Raum. Der Kurs umfasst 10 Termine. \nDas Alter der Kinder wird bei der Anmeldung berücksichtigt. Bitte ein großes Handtuch / Decke\, Kinderpflegemittel und Windeln mitbringen. \nDie Gruppen werden nach dem Alter der Babys zusammengestellt.  Dabei ist es wichtig\, eine allzu große Altersspanne zu vermeiden.  Deshalb werden alle eingehenden Anmeldungen in einer Interessent*innenliste  gesammelt und so die Kurse altersentsprechend koordiniert. \n  \nAnmeldung:  \nÜber den Link der AWO-Webseite (siehe unten). \nWichtig: \nDer Kurs findet nicht in den Ferien oder an Feiertagen statt und umfasst insgesamt zehn Termine.
URL:https://www.chancenreich-herford.de/veranstaltung/26-12-390-pekip-spiel-und-bewegungsanregungen-fuer-babys-im-1-lebensjahr
LOCATION:Hebammenpraxis Bad Salzuflen\, Werler Str. 49\, Bad Salzuflen\, 32105
CATEGORIES:Kurse,Pekip
END:VEVENT
BEGIN:VEVENT
DTSTART;TZID=UTC:20260917T090000
DTEND;TZID=UTC:20260917T103000
DTSTAMP:20260423T085049
CREATED:20260311T143832Z
LAST-MODIFIED:20260311T143832Z
UID:10001729-1789635600-1789641000@www.chancenreich-herford.de
SUMMARY:26.13.320 FuN - Baby
DESCRIPTION:“FuN“ steht für „Familie und Nachbarschaft“. Und FuN-Baby ist der Elternkurs für Mütter oder Väter mit Babys und Kleinkindern bis eineinhalb Jahre. \nAn acht Terminen können Sie ganz praktisch Erfahrungen im Umgang mit Ihrem Kind sammeln. Die Treffen haben eine feste Struktur – zum Programm gehören bei jedem Termin eine Eltern-Kind-Einheit (z. B. Spiele zur Wahrnehmungs- oder Bewegungsförderung) und eine Gesprächsrunde. Zum Kursabschluss findet i.d.R. ein kleiner gemeinsamer Imbiss statt. \nAnmeldung: Über die AWO-Webseite\, bitte Link (siehe unten) anklicken! \nWichtig: \nDer Kurs findet nicht in den Ferien oder an Feiertagen statt und umfasst 8 Termine.
URL:https://www.chancenreich-herford.de/veranstaltung/26-13-320-fun-baby
LOCATION:Zentrum der Jugend / HerforderTeppichfabrik\, Auf der Freiheit 9-11\, Herford\, 32052\, Deutschland
CATEGORIES:FuN-Baby,Kurse
END:VEVENT
BEGIN:VEVENT
DTSTART;TZID=UTC:20260917T104500
DTEND;TZID=UTC:20260917T121500
DTSTAMP:20260423T085049
CREATED:20260311T144224Z
LAST-MODIFIED:20260311T144224Z
UID:10001730-1789641900-1789647300@www.chancenreich-herford.de
SUMMARY:26.13.330 FuN - Baby
DESCRIPTION:“FuN“ steht für „Familie und Nachbarschaft“. Und FuN-Baby ist der Elternkurs für Mütter oder Väter mit Babys und Kleinkindern bis eineinhalb Jahre. \nAn acht Terminen können Sie ganz praktisch Erfahrungen im Umgang mit Ihrem Kind sammeln. Die Treffen haben eine feste Struktur – zum Programm gehören bei jedem Termin eine Eltern-Kind-Einheit (z. B. Spiele zur Wahrnehmungs- oder Bewegungsförderung) und eine Gesprächsrunde. Zum Kursabschluss findet i.d.R. ein kleiner gemeinsamer Imbiss statt. \nAnmeldung: Über die AWO-Webseite\, bitte Link (siehe unten) anklicken! \nWichtig: \nDer Kurs findet nicht in den Ferien oder an Feiertagen statt und umfasst 8 Termine.
URL:https://www.chancenreich-herford.de/veranstaltung/26-13-330-fun-baby
LOCATION:Zentrum der Jugend / HerforderTeppichfabrik\, Auf der Freiheit 9-11\, Herford\, 32052\, Deutschland
CATEGORIES:FuN-Baby,Kurse
END:VEVENT
BEGIN:VEVENT
DTSTART;TZID=UTC:20261201T190000
DTEND;TZID=UTC:20261201T211500
DTSTAMP:20260423T085049
CREATED:20251124T093240Z
LAST-MODIFIED:20251124T093240Z
UID:10001529-1796151600-1796159700@www.chancenreich-herford.de
SUMMARY:26.53.500 Kinderkrankheiten: Was tun?
DESCRIPTION:Mit Kindern ziehen auch verschiedene typische Erkrankungen in unser Zuhause ein.\nDie meisten sind harmlos\, doch als Familie ist es meist eine herausfordernde Zeit.\nDieser Themenvortrag gibt Eltern und anderen Interessierten einen Überblick über die typischen Krankheiten im Kindesalter.\nDarüber hinaus werden Handlungsmöglichkeiten für Zuhause aufgezeigt und besprochen\, wann ein Besuch bei der Kinderärzt*in zu empfehlen ist. \n  \nAnmeldung bitte direkt über die AWO Website (siehe unten).
URL:https://www.chancenreich-herford.de/veranstaltung/26-53-500-kinderkrankheiten-was-tun
LOCATION:Zentrum der Jugend / HerforderTeppichfabrik\, Auf der Freiheit 9-11\, Herford\, 32052\, Deutschland
CATEGORIES:Workshops
END:VEVENT
END:VCALENDAR