BEGIN:VCALENDAR
VERSION:2.0
PRODID:-//Chancenreich Herford - ECPv6.8.2.1//NONSGML v1.0//EN
CALSCALE:GREGORIAN
METHOD:PUBLISH
X-WR-CALNAME:Chancenreich Herford
X-ORIGINAL-URL:https://www.chancenreich-herford.de
X-WR-CALDESC:Veranstaltungen für Chancenreich Herford
REFRESH-INTERVAL;VALUE=DURATION:PT1H
X-Robots-Tag:noindex
X-PUBLISHED-TTL:PT1H
BEGIN:VTIMEZONE
TZID:UTC
BEGIN:STANDARD
TZOFFSETFROM:+0000
TZOFFSETTO:+0000
TZNAME:UTC
DTSTART:20260101T000000
END:STANDARD
END:VTIMEZONE
BEGIN:VEVENT
DTSTART;TZID=UTC:20260429T100000
DTEND;TZID=UTC:20260429T110000
DTSTAMP:20260421T151812
CREATED:20251119T102614Z
LAST-MODIFIED:20251119T102614Z
UID:10001509-1777456800-1777460400@www.chancenreich-herford.de
SUMMARY:Gemeindebücherei-Workshop in Kirchlengern im April
DESCRIPTION:Sie haben schon einmal von der Gemeindebücherei Kirchlengern gehört\, waren aber noch nie dort?\nOder Sie möchten einfach gerne entdecken\, welche Angebote es für Ihre Familie gibt? \nDann möchten wir Sie herzlich zu einem gemeinsamen Bibliotheks-Workshop einladen! Im Rahmen des Chancenreich-Programms haben Sie die Möglichkeit\, die Bücherei in einer kleinen\, begleiteten Führung kennenzulernen und all Ihre Fragen direkt vor Ort zu stellen. \n\nWie bekomme ich eine Bibliothekskarte?\nWelche Angebote gibt es für kleine Kinder?\nGibt es Medien in unterschiedlichen Sprachen?\n\nDie Gemeindebücherei Kirchlengern lädt mit ihrer gemütlichen Leseecke und ihrem vielfältigen Medienangebot nämlich auch zum Verweilen ein. Neben aktuellen Büchern finden Sie dort CDs\, DVDs\, Magazine\, Hörbücher\, Zeitschriften und E-Books\, die Sie ganz unkompliziert – teilweise sogar von zu Hause aus – ausleihen können. Der besondere Charme des restaurierten „Ostermeiers Hof“\, in dem die Bücherei seit 1989 untergebracht ist\, macht den Besuch zusätzlich zu einem kleinen Erlebnis. \nDurch verschiedene Veranstaltungen und Lesepaten werden bereits die Kleinsten spielerisch ans Lesen herangeführt und in ihrer Entwicklung unterstützt. \nAnmeldung:\nMöchten Sie von diesen Angeboten profitieren und sich für den Bibliotheks-Workshop anmelden? \nEmel Bilgetekin nimmt die Anmeldungen telefonisch (0170 2823509) oder per E-Mail entgegen.\n(Bitte bringen Sie zum Workshop den grünen Gutschein mit.) \nTreffpunkt:\nGemeindebücherei Kirchlengern – Ostermeiers Hof 1
URL:https://www.chancenreich-herford.de/veranstaltung/gemeindebuecherei-workshop-in-kirchlengern-im-april
LOCATION:Gemeindebücherei in Kirchlengern\, Ostermeiers Hof 1\, Kirchlengern\, 32278
CATEGORIES:Workshops
ORGANIZER;CN="Emel Bilgetekin":MAILTO:ebilgetekin@chancenreich-herford.de
END:VEVENT
BEGIN:VEVENT
DTSTART;TZID=UTC:20261007T100000
DTEND;TZID=UTC:20261007T110000
DTSTAMP:20260421T151812
CREATED:20251119T102818Z
LAST-MODIFIED:20251119T102818Z
UID:10001510-1791367200-1791370800@www.chancenreich-herford.de
SUMMARY:Gemeindebücherei-Workshop in Kirchlengern im Oktober
DESCRIPTION:Sie haben schon einmal von der Gemeindebücherei Kirchlengern gehört\, waren aber noch nie dort?\nOder Sie möchten einfach gerne entdecken\, welche Angebote es für Ihre Familie gibt? \nDann möchten wir Sie herzlich zu einem gemeinsamen Bibliotheks-Workshop einladen! Im Rahmen des Chancenreich-Programms haben Sie die Möglichkeit\, die Bücherei in einer kleinen\, begleiteten Führung kennenzulernen und all Ihre Fragen direkt vor Ort zu stellen. \nWie bekomme ich eine Bibliothekskarte?\nWelche Angebote gibt es für kleine Kinder?\nGibt es Medien in unterschiedlichen Sprachen?\nDie Gemeindebücherei Kirchlengern lädt mit ihrer gemütlichen Leseecke und ihrem vielfältigen Medienangebot nämlich auch zum Verweilen ein. Neben aktuellen Büchern finden Sie dort CDs\, DVDs\, Magazine\, Hörbücher\, Zeitschriften und E-Books\, die Sie ganz unkompliziert – teilweise sogar von zu Hause aus – ausleihen können. Der besondere Charme des restaurierten „Ostermeiers Hof“\, in dem die Bücherei seit 1989 untergebracht ist\, macht den Besuch zusätzlich zu einem kleinen Erlebnis. \nDurch verschiedene Veranstaltungen und Lesepaten werden bereits die Kleinsten spielerisch ans Lesen herangeführt und in ihrer Entwicklung unterstützt. \nAnmeldung:\nMöchten Sie von diesen Angeboten profitieren und sich für den Bibliotheks-Workshop anmelden?\nEmel Bilgetekin nimmt die Anmeldungen telefonisch (0170 2823509) oder per E-Mail entgegen.\n(Bitte bringen Sie zum Workshop den grünen Gutschein mit.) \nTreffpunkt:\nGemeindebücherei Kirchlengern – Ostermeiers Hof 1
URL:https://www.chancenreich-herford.de/veranstaltung/gemeindebuecherei-workshop-in-kirchlengern-im-oktober
LOCATION:Gemeindebücherei in Kirchlengern\, Ostermeiers Hof 1\, Kirchlengern\, 32278
CATEGORIES:Workshops
ORGANIZER;CN="Emel Bilgetekin":MAILTO:ebilgetekin@chancenreich-herford.de
END:VEVENT
END:VCALENDAR