BEGIN:VCALENDAR
VERSION:2.0
PRODID:-//Chancenreich Herford - ECPv6.8.2.1//NONSGML v1.0//EN
CALSCALE:GREGORIAN
METHOD:PUBLISH
X-WR-CALNAME:Chancenreich Herford
X-ORIGINAL-URL:https://www.chancenreich-herford.de
X-WR-CALDESC:Veranstaltungen für Chancenreich Herford
REFRESH-INTERVAL;VALUE=DURATION:PT1H
X-Robots-Tag:noindex
X-PUBLISHED-TTL:PT1H
BEGIN:VTIMEZONE
TZID:UTC
BEGIN:STANDARD
TZOFFSETFROM:+0000
TZOFFSETTO:+0000
TZNAME:UTC
DTSTART:20260101T000000
END:STANDARD
END:VTIMEZONE
BEGIN:VEVENT
DTSTART;TZID=UTC:20260302T104500
DTEND;TZID=UTC:20260302T121500
DTSTAMP:20260425T113354
CREATED:20251114T091341Z
LAST-MODIFIED:20251118T095513Z
UID:10001493-1772448300-1772453700@www.chancenreich-herford.de
SUMMARY:26.13.110 FuN - Baby
DESCRIPTION:„FuN“ steht für „Familie und Nachbarschaft“. Und FuN-Baby ist der Elternkurs für Mütter oder Väter mit Babys und Kleinkindern bis eineinhalb Jahre. \nAn acht Terminen können Sie ganz praktisch Erfahrungen im Umgang mit Ihrem Kind sammeln. Die Treffen haben eine feste Struktur – zum Programm gehören bei jedem Termin eine Eltern-Kind-Einheit (z. B. Spiele zur Wahrnehmungs- oder Bewegungsförderung) und eine Gesprächsrunde. Zum Kursabschluss findet i.d.R. ein kleiner gemeinsamer Imbiss statt. \nAnmeldung: Über die AWO-Webseite\, bitte Link (siehe unten) anklicken! \nWichtig: \nDer Kurs findet nicht in den Ferien oder an Feiertagen statt.
URL:https://www.chancenreich-herford.de/veranstaltung/26-13-110-fun-baby/2026-03-02
LOCATION:Ev. Kita “Großer Stern”\, Amselstraße 21\, Herford\, 32049
CATEGORIES:FuN-Baby,Kurse
END:VEVENT
END:VCALENDAR