BEGIN:VCALENDAR
VERSION:2.0
PRODID:-//Chancenreich Herford - ECPv6.8.2.1//NONSGML v1.0//EN
CALSCALE:GREGORIAN
METHOD:PUBLISH
X-WR-CALNAME:Chancenreich Herford
X-ORIGINAL-URL:https://www.chancenreich-herford.de
X-WR-CALDESC:Veranstaltungen für Chancenreich Herford
REFRESH-INTERVAL;VALUE=DURATION:PT1H
X-Robots-Tag:noindex
X-PUBLISHED-TTL:PT1H
BEGIN:VTIMEZONE
TZID:UTC
BEGIN:STANDARD
TZOFFSETFROM:+0000
TZOFFSETTO:+0000
TZNAME:UTC
DTSTART:20260101T000000
END:STANDARD
END:VTIMEZONE
BEGIN:VEVENT
DTSTART;TZID=UTC:20260610T090000
DTEND;TZID=UTC:20260610T120000
DTSTAMP:20260419T165044
CREATED:20251114T125041Z
LAST-MODIFIED:20260309T083855Z
UID:10001466-1781082000-1781092800@www.chancenreich-herford.de
SUMMARY:26-60114 Online Angebot:  Erziehen mit Wertschätzung und klaren Grenzen Strategien für eine gute Eltern-Kind-Beziehung
DESCRIPTION:Was tun\, wenn die kleine Tochter wütend losbrüllt\, der Sohn mal wieder seine Hausaufgaben nicht erledigt und der Nachwuchs es schafft\, täglich mehrmals den Haussegen schiefzustreiten? Eltern wünschen sich einen liebevollen Umgang mit ihren Kindern\, und Kinder haben ein Recht auf gewaltfreie Erziehung. Doch Kinder erziehen ohne Schimpfen\, Drohen und Druck auszuüben – ist das möglich? In diesem Online-Kurs werden Ihnen Wege aufgezeigt\, wie Sie Ihre Kinder fördern und auch konfliktgeladene Situationen des Familienalltags gelassener und souveräner meistern können. Es geht um eine wertschätzende Kommunikation\, aber auch um ein klares “Nein” und um das Deutlichmachen von Grenzen. Sie erhalten Hinweise\, wie Sie Erziehungsproblemen vorbeugen und diese besser lösen können. Erfahren Sie\, wie das Zusammenspiel von Geborgenheit\, dem Einhalten klarer Regeln und der Ermutigung zur Selbstständigkeit zu einer gestärkten Eltern-Kind-Beziehung beiträgt. \nDer Online-Kurs eignet sich für Eltern mit Kindern im Säuglingsalter bis zur Pubertät. \nAnmeldung: \nTelefonisch oder per E-Mail bei der Vhs – Herford (siehe unten). \nBitte schicken Sie vorab Ihren Chancenreich-Gutschein „Eltern-Kurs“ (blau) postalisch oder Mail an die vhs. Geben Sie bitte in der Mail Ihre vollständige Adresse an. Bitte geben Sie Ihre Telefonnummer an\, da der Kurs auch Telefonate mit der Dozentin umfasst. Der Kurs umfasst drei Termine. \nAnmeldung unter: 05221-590520 oder breuker@vhsimkreisherford.de
URL:https://www.chancenreich-herford.de/veranstaltung/26-60114-online-angebot-erziehen-mit-wertschaetzung-und-klaren-grenzen-strategien-fuer-eine-gute-eltern-kind-beziehung/2026-06-10
LOCATION:Online
CATEGORIES:Kurse,Online-Kurs
ORGANIZER;CN="VHS":MAILTO:breuker@vhsimkreisherford.de
END:VEVENT
END:VCALENDAR