BEGIN:VCALENDAR
VERSION:2.0
PRODID:-//Chancenreich Herford - ECPv6.8.2.1//NONSGML v1.0//EN
CALSCALE:GREGORIAN
METHOD:PUBLISH
X-WR-CALNAME:Chancenreich Herford
X-ORIGINAL-URL:https://www.chancenreich-herford.de
X-WR-CALDESC:Veranstaltungen für Chancenreich Herford
REFRESH-INTERVAL;VALUE=DURATION:PT1H
X-Robots-Tag:noindex
X-PUBLISHED-TTL:PT1H
BEGIN:VTIMEZONE
TZID:UTC
BEGIN:STANDARD
TZOFFSETFROM:+0000
TZOFFSETTO:+0000
TZNAME:UTC
DTSTART:20260101T000000
END:STANDARD
END:VTIMEZONE
BEGIN:VEVENT
DTSTART;TZID=UTC:20260224T193000
DTEND;TZID=UTC:20260224T210000
DTSTAMP:20260424T022205
CREATED:20251114T145131Z
LAST-MODIFIED:20251114T145131Z
UID:3132-1771961400-1771966800@www.chancenreich-herford.de
SUMMARY:26-69214 Eltern stärken ihre Kinder
DESCRIPTION:Wie kommt es\, dass ein Kind Nackenschläge oder eine Niederlage gut wegsteckt\, ein anderes dagegen daran zerbricht? Wieso gelingt es manchen Kindern\, aus Krisen sogar gestärkt hervorzugehen? Welche Eigenschaften bringen diese Kinder mit\, und welche Weichen für seelische Widerstandskraft (Resilienz) werden schon in der Kindheit gestellt? Die Referentin zeigt auf\, was Eltern dafür tun können\, dass Kinder “stark” werden und die entscheidenden Fähigkeiten erwerben\, ihre Lebensbelastungen erfolgreich zu bewältigen. \nAnmeldung: \nTelefonisch oder per E-Mail bei der Vhs – Herford (siehe unten). \nBitte schicken Sie vorab Ihren Chancenreich-Gutschein „Eltern-Workshop“ (grün) postalisch oder Mail an die vhs. Geben Sie bitte in der Mail Ihre vollständige Adresse an. \nAnmeldung unter: 05221-590520 oder breuker@vhsimkreisherford.de
URL:https://www.chancenreich-herford.de/veranstaltung/26-69214-eltern-staerken-ihre-kinder
LOCATION:Online
CATEGORIES:Workshops
ORGANIZER;CN="VHS":MAILTO:breuker@vhsimkreisherford.de
END:VEVENT
END:VCALENDAR