BEGIN:VCALENDAR
VERSION:2.0
PRODID:-//Chancenreich Herford - ECPv6.8.2.1//NONSGML v1.0//EN
CALSCALE:GREGORIAN
METHOD:PUBLISH
X-WR-CALNAME:Chancenreich Herford
X-ORIGINAL-URL:https://www.chancenreich-herford.de
X-WR-CALDESC:Veranstaltungen für Chancenreich Herford
REFRESH-INTERVAL;VALUE=DURATION:PT1H
X-Robots-Tag:noindex
X-PUBLISHED-TTL:PT1H
BEGIN:VTIMEZONE
TZID:UTC
BEGIN:STANDARD
TZOFFSETFROM:+0000
TZOFFSETTO:+0000
TZNAME:UTC
DTSTART:20260101T000000
END:STANDARD
END:VTIMEZONE
BEGIN:VEVENT
DTSTART;TZID=UTC:20260226T183000
DTEND;TZID=UTC:20260226T203000
DTSTAMP:20260423T193708
CREATED:20251118T163142Z
LAST-MODIFIED:20251118T163142Z
UID:3163-1772130600-1772137800@www.chancenreich-herford.de
SUMMARY:Geschwister – Nähe\, Rivalität und die Macht der Reihenfolge
DESCRIPTION:Geschwisterbeziehungen sind einzigartig: voller Nähe\, aber auch voller Reibung. Die Position in der Geschwisterreihenfolge – ob Erst- oder Zweitgeborene*r – prägt oft ein Leben lang: Verantwortungsübernahme\, Anspruch auf Aufmerksamkeit\, Rollenbilder und Rivalität entwickeln sich schon früh und beeinflussen die Persönlichkeit nachhaltig. Für Eltern ist es eine besondere Herausforderung\, im Alltag Streit zu schlichten\,\nBedürfnisse auszugleichen und Harmonie zu fördern. In diesem Workshop lernen Sie\, wie Sie Rivalität entschärfen\, Eifersucht vorbeugen und ein Klima schaden\, in dem Ihre Kinder lernen\, Konflikte selbstständig und respektvoll zu lösen. Gleichzeitig werfen wir einen Blick darauf\, wie die\nGeburtsreihenfolge prägt – und was das für das Zusammenleben in der Familie bedeutet. \nReferentin: Lydia Klassen\, Heilpraktikerin für Psychotherapie\, Repräsentantin & Ausbildungsleitung Gordon Training Deutschland \nAnmeldung erfolgt bei Lydia Klassen telefonisch unter 05221 2753155 oder per Mail an\nkontakt@beziehungsatelier.de
URL:https://www.chancenreich-herford.de/veranstaltung/geschwister-naehe-rivalitaet-und-die-macht-der-reihenfolge
LOCATION:Beziehungsatelier\, Auf der Strotheide 50\, Herford\, 32051
CATEGORIES:Workshops
END:VEVENT
END:VCALENDAR