BEGIN:VCALENDAR
VERSION:2.0
PRODID:-//Chancenreich Herford - ECPv6.8.2.1//NONSGML v1.0//EN
CALSCALE:GREGORIAN
METHOD:PUBLISH
X-WR-CALNAME:Chancenreich Herford
X-ORIGINAL-URL:https://www.chancenreich-herford.de
X-WR-CALDESC:Veranstaltungen für Chancenreich Herford
REFRESH-INTERVAL;VALUE=DURATION:PT1H
X-Robots-Tag:noindex
X-PUBLISHED-TTL:PT1H
BEGIN:VTIMEZONE
TZID:UTC
BEGIN:STANDARD
TZOFFSETFROM:+0000
TZOFFSETTO:+0000
TZNAME:UTC
DTSTART:20260101T000000
END:STANDARD
END:VTIMEZONE
BEGIN:VEVENT
DTSTART;TZID=UTC:20260310T100000
DTEND;TZID=UTC:20260310T113000
DTSTAMP:20260423T135506
CREATED:20251002T123651Z
LAST-MODIFIED:20251128T093613Z
UID:10001336-1773136800-1773142200@www.chancenreich-herford.de
SUMMARY:Kurs "Sprich mit mir" im Januar
DESCRIPTION:Der Kurs ist bereits ausgebucht! \n„Sprich mit mir“ ist ein neuer Chancenreich-Kurs für Familien mit Kleinkindern bis zum 7. Lebensmonat. \nGemeinsam entdecken wir\, wie Babys sich mitteilen und wie wir sie im Alltag spielerisch in ihrer individuellen Sprachentwicklung unterstützen können. \n  \nZum Kurs gehört die Chancenreich-App\, die den Kursteilnehmer*innen pro Woche drei kleine Aktivitäten für zu Hause anbietet. In unseren wöchentlichen Treffen besprechen wir die ausprobierten Dinge aus der App und schauen gemeinsam einen kleinen Film und tauschen uns darüber aus. \nThemen sind u.a. Warum nehmen Babys alles in den Mund? Bilderbücher\, Sprachanlässe im Alltag\, Fingerspiele\, Kinderlieder & Reime\, elterlicher Stress (…) \n  \nFür die Anmeldung und Nutzung der App benötigen Sie ein Handy oder Tablett und eine aktuelle E-Mailadresse. \n  \nWir treffen uns einmal pro Woche mit den Babys im Motorikraum des TGH Herford\, Waldfriendenstraße 62 in 32049 Herford. \n  \nDer Kurs umfasst 9 Termine und einen Abschlusstermin\, der im Kurs noch mitgeteilt wird: \n  \n13.01.2026   20.01.2026   27.01.2026  03.02.2026  10.02.2026 \n  \n17.02.2026  24.02.2026  03.03.2026  10.03.2026 \n  \nimmer von 10:00 bis 11:30 Uhr. Die müden Kinder können im Kurs auch gern schlafen. \n  \nVom Parkplatz auf dem Gelände des TGH Herford bis zum Motorikraum sind es zu Fuß etwa fünf Minuten. Am ersten Termin treffen wir uns auf dem Parkplatz\, im Gebäude können Kinderwagen abgestellt werden. \nDer TGH Waldfrieden ist mit dem Bus der Linie S5 Richtung Tierpark gut erreichbar. \n  \nIch freue mich auf einen spanenden Kurs mit Ihnen und den Babys ☺ \nAnmeldungen bei Corinna Lück (siehe unten).
URL:https://www.chancenreich-herford.de/veranstaltung/kurs-sprich-mit-mir-im-januar/2026-03-10
LOCATION:TGH Sportpark Waldfrieden\, Waldfriedenstraße 62\, Herford\, 32049\, Deutschland
CATEGORIES:Kurse,Sprich mit mir...
ORGANIZER;CN="Chancenreich Corinna Lueck":MAILTO:clueck@chancenreich-herford.de
END:VEVENT
END:VCALENDAR