BEGIN:VCALENDAR
VERSION:2.0
PRODID:-//Chancenreich Herford - ECPv6.8.2.1//NONSGML v1.0//EN
CALSCALE:GREGORIAN
METHOD:PUBLISH
X-WR-CALNAME:Chancenreich Herford
X-ORIGINAL-URL:https://www.chancenreich-herford.de
X-WR-CALDESC:Veranstaltungen für Chancenreich Herford
REFRESH-INTERVAL;VALUE=DURATION:PT1H
X-Robots-Tag:noindex
X-PUBLISHED-TTL:PT1H
BEGIN:VTIMEZONE
TZID:UTC
BEGIN:STANDARD
TZOFFSETFROM:+0000
TZOFFSETTO:+0000
TZNAME:UTC
DTSTART:20260101T000000
END:STANDARD
END:VTIMEZONE
BEGIN:VEVENT
DTSTART;TZID=UTC:20260305T145000
DTEND;TZID=UTC:20260305T163000
DTSTAMP:20260425T113506
CREATED:20251119T145223Z
LAST-MODIFIED:20260226T103108Z
UID:3198-1772722200-1772728200@www.chancenreich-herford.de
SUMMARY:Marta Mini – Erkundungen mit allen Sinnen im Marta Atelier im März
DESCRIPTION:Der Workshop ist leider schon ausgebucht. \nFür Kleinkinder ab 18 Monate und unter 3 Jahren und eine Begleitperson. \nIm Marta Atelier sind Kleinkinder eingeladen\, an verschiedenen\, altersgerechten Mitmachstationen sinnliche Erfahrungen zu machen. \nDie Kinder können sich frei im Raum bewegen und in ihrem eigenen Tempo und nach ihren persönlichen Interessen eine Beschäftigung wählen oder mehrere Angebote durchlaufen. \nFormen mit den Händen erkunden\, Geräusche hören und erzeugen\, Farben sehen und Linien zeichnen: das individuelle Erleben und Erkunden von Material stehen hier im Vordergrund. \nAnmeldung per Mail an Corinna Lück (siehe unten).
URL:https://www.chancenreich-herford.de/veranstaltung/marta-mini-erkundungen-mit-allen-sinnen-im-marta-atelier-im-maerz
LOCATION:Marta Herford (Museum)\, Goebenstraße 2\, Herford\, 32052
CATEGORIES:Workshops
ORGANIZER;CN="Chancenreich Corinna Lueck":MAILTO:clueck@chancenreich-herford.de
END:VEVENT
END:VCALENDAR