BEGIN:VCALENDAR
VERSION:2.0
PRODID:-//Chancenreich Herford - ECPv6.8.2.1//NONSGML v1.0//EN
CALSCALE:GREGORIAN
METHOD:PUBLISH
X-WR-CALNAME:Chancenreich Herford
X-ORIGINAL-URL:https://www.chancenreich-herford.de
X-WR-CALDESC:Veranstaltungen für Chancenreich Herford
REFRESH-INTERVAL;VALUE=DURATION:PT1H
X-Robots-Tag:noindex
X-PUBLISHED-TTL:PT1H
BEGIN:VTIMEZONE
TZID:UTC
BEGIN:STANDARD
TZOFFSETFROM:+0000
TZOFFSETTO:+0000
TZNAME:UTC
DTSTART:20240101T000000
END:STANDARD
END:VTIMEZONE
BEGIN:VEVENT
DTSTART;TZID=UTC:20240925T183000
DTEND;TZID=UTC:20240925T200000
DTSTAMP:20260423T135505
CREATED:20240110T095202Z
LAST-MODIFIED:20240110T095202Z
UID:2405-1727289000-1727294400@www.chancenreich-herford.de
SUMMARY:Online-Workshop: Mama mach das Monster! - Kinderängste haben viele Gesichter
DESCRIPTION:Wer kennt sie nicht? Die Monster unter dem Bett\, die Angst und Schrecken einjagen\, die Angst vor der Dunkelheit\, die Angst vor dem Verlassenwerden – und dann noch die allgegenwärtige Angst vor Corona – und ganz aktuell vor einem Krieg. „Könnte Mama oder Papa\, Oma oder Opa etwas Schlimmes passieren?“ so die bange Frage. Kinderängste haben viele Gesichter und äußern sich bei jedem Kind anders. Wie können Eltern reagieren? Die Referentin gibt Eltern Hinweise\, die Ängste der Kinder richtig einzuordnen\, und macht Mut\, Wege zu finden\, die Kinder im Umgang mit ihren Ängsten zu unterstützen und zu stärken. \nAnmeldung: \nTelefonisch oder per E-Mail bei der Vhs – Herford (siehe unten). \nBitte schicken Sie vorab Ihren Chancenreich-Gutschein “Eltern-Workshop” (grün) postalisch oder Mail an die Vhs. \nWichtig: \nDies ist eine Online-Veranstaltung. Sie erhalten vom Veranstalter (Vhs) zeitnah alle notwendigen Informationen.
URL:https://www.chancenreich-herford.de/veranstaltung/online-workshop-mama-mach-das-monster-kinderaengste-haben-viele-gesichter
LOCATION:Online
CATEGORIES:Workshops
ORGANIZER;CN="VHS":MAILTO:breuker@vhsimkreisherford.de
END:VEVENT
END:VCALENDAR