BEGIN:VCALENDAR
VERSION:2.0
PRODID:-//Chancenreich Herford - ECPv6.8.2.1//NONSGML v1.0//EN
CALSCALE:GREGORIAN
METHOD:PUBLISH
X-WR-CALNAME:Chancenreich Herford
X-ORIGINAL-URL:https://www.chancenreich-herford.de
X-WR-CALDESC:Veranstaltungen für Chancenreich Herford
REFRESH-INTERVAL;VALUE=DURATION:PT1H
X-Robots-Tag:noindex
X-PUBLISHED-TTL:PT1H
BEGIN:VTIMEZONE
TZID:UTC
BEGIN:STANDARD
TZOFFSETFROM:+0000
TZOFFSETTO:+0000
TZNAME:UTC
DTSTART:20260101T000000
END:STANDARD
END:VTIMEZONE
BEGIN:VEVENT
DTSTART;TZID=UTC:20260922T095000
DTEND;TZID=UTC:20260922T110000
DTSTAMP:20260419T124703
CREATED:20251119T140601Z
LAST-MODIFIED:20251119T140601Z
UID:3187-1790070600-1790074800@www.chancenreich-herford.de
SUMMARY:Workshop im Tierpark September
DESCRIPTION:Eine gemeinsame Führung mit den Tierpfleger*innen durch den Tierpark Herford. Dabei erfahren wir mehr über die Tiere und die Geschichten des Tierpark. Abschluss ist gegen 11:30 Uhr auf einem der Spielplätze. Bitte beachten Sie\, dass dieser Workshop erst für Kinder ab 18 Monaten geeignet ist. \nUnser Treffpunkt an dem jeweiligen Tag ist um 9:50 Uhr vor dem Eingang. \nAnmeldung: \nBitte per Mail an Ewa Niemitz-Acikgoez. \nWichtig: \nBitte bringen Sie den Gutschein für den Workshop (grün) mit. \nDer Workshop findet mit Kindern statt. \nDer Workshop findet auch bei Regen (nicht bei Unwetter) statt – bitte bringen Sie wetterangemessene Kleidung mit.
URL:https://www.chancenreich-herford.de/veranstaltung/workshop-im-tierpark-september
LOCATION:Tierpark Herford\, Stadtholzstraße 234\, Herford\, 32049\, Deutschland
CATEGORIES:Workshops
ORGANIZER;CN="Chanchenreich Ewa Niemitz-Acikgoez":MAILTO:enacikgoez@chancenreich-herford.de
END:VEVENT
END:VCALENDAR