BEGIN:VCALENDAR
VERSION:2.0
PRODID:-//Chancenreich Herford - ECPv6.8.2.1//NONSGML v1.0//EN
CALSCALE:GREGORIAN
METHOD:PUBLISH
X-WR-CALNAME:Chancenreich Herford
X-ORIGINAL-URL:https://www.chancenreich-herford.de
X-WR-CALDESC:Veranstaltungen für Chancenreich Herford
REFRESH-INTERVAL;VALUE=DURATION:PT1H
X-Robots-Tag:noindex
X-PUBLISHED-TTL:PT1H
BEGIN:VTIMEZONE
TZID:UTC
BEGIN:STANDARD
TZOFFSETFROM:+0000
TZOFFSETTO:+0000
TZNAME:UTC
DTSTART:20240101T000000
END:STANDARD
END:VTIMEZONE
BEGIN:VEVENT
DTSTART;TZID=UTC:20240919T093000
DTEND;TZID=UTC:20240919T110000
DTSTAMP:20260425T113351
CREATED:20240903T134201Z
LAST-MODIFIED:20240903T134201Z
UID:10000356-1726738200-1726743600@www.chancenreich-herford.de
SUMMARY:Staunen und die Welt entdecken: Spiel- und Bewegungsanregungen im 1. Lebensjahr
DESCRIPTION:Eltern-Kind-Kurs ab dem 19.09.2024 – 10 Termine \nDas Prager-Eltern-Kind-Programm (PEKiP) ist ein Konzept für Eltern mit Kindern im ersten Lebensjahr. PEKiP begleitet Mütter / Väter und ihr Baby mit Spiel-\, Bewegungs- und Sinnesanregungen. So wird das Kind dabei unterstützt\, sich seinen Fähigkeiten entsprechend zu entwickeln. \nIn der PEKiP-Gruppe erfahren Eltern\, was ihrem Kind Freude macht und guttut. Sie haben Gelegenheit\, Kontakte zu schließen und sich über Fragen\, Probleme und Erfahrungen auszutauschen\, sowie gemeinsame Lösungsmöglichkeiten zu entwickeln. \nUnter Leitung der ausgebildeten PEKiP-Gruppenleiterin treffen sich in der Regel acht Eltern und Babys an einem Termin der Woche in einem hellen\, freundlichen Raum. \nDas Alter der Kinder wird bei der Anmeldung berücksichtigt. Bitte ein großes Handtuch / Decke\, Kinderpflegemittel und Windeln mitbringen. \nDie Gruppen werden nach dem Alter der Babys zusammengestellt.  Dabei ist es wichtig\, eine allzu große Altersspanne zu vermeiden.  Deshalb werden alle eingehenden Anmeldungen in einer Interessent*innenliste  gesammelt und so die Kurse altersentsprechend koordiniert. \n  \nAnmeldung:  \nÜber den Link der AWO-Webseite (siehe unten). \nWichtig: \nDer Kurs findet nicht in den Ferien oder an Feiertagen statt.
URL:https://www.chancenreich-herford.de/veranstaltung/staunen-und-die-welt-entdecken-spiel-und-bewegungsanregungen-im-1-lebensjahr
LOCATION:Kinder- und Jugendzentrum Atlantis\, Auf´m Rott 8\, Bünde\, 32257\, Deutschland
CATEGORIES:Kurse
END:VEVENT
END:VCALENDAR