BEGIN:VCALENDAR
VERSION:2.0
PRODID:-//Chancenreich Herford - ECPv6.8.2.1//NONSGML v1.0//EN
CALSCALE:GREGORIAN
METHOD:PUBLISH
X-WR-CALNAME:Chancenreich Herford
X-ORIGINAL-URL:https://www.chancenreich-herford.de
X-WR-CALDESC:Veranstaltungen für Chancenreich Herford
REFRESH-INTERVAL;VALUE=DURATION:PT1H
X-Robots-Tag:noindex
X-PUBLISHED-TTL:PT1H
BEGIN:VTIMEZONE
TZID:UTC
BEGIN:STANDARD
TZOFFSETFROM:+0000
TZOFFSETTO:+0000
TZNAME:UTC
DTSTART:20260101T000000
END:STANDARD
END:VTIMEZONE
BEGIN:VEVENT
DTSTART;TZID=UTC:20260622T145000
DTEND;TZID=UTC:20260622T163000
DTSTAMP:20260421T132235
CREATED:20260302T144734Z
LAST-MODIFIED:20260302T144734Z
UID:10001691-1782139800-1782145800@www.chancenreich-herford.de
SUMMARY:Workshop in der Nordwestdeutschen Philharmonie
DESCRIPTION:Dieser Workshop ist für Eltern mit Kindern\, die mindestens 1\,5 Jahre alt sind. \nVielleicht habt ihr ein großes Orchester schon einmal auf der Bühne gesehen\, doch wie sieht es hinter den Kulissen aus? Wie bereiten sich die Musikerinnen und Musiker auf das nächste Konzert vor? Und wie sehen die Instrumente aus der Nähe aus? Das könnt ihr bei uns in der Philharmonie am 22. Juni 2026 erleben. \nAnmeldung bitte an Corinna Lück (siehe unten). \nBitte bringen Sie den grünen Gutschein für den Workshop \nWir treffen uns um 14:50 Uhr am Eingang der NWD\, Stiftbergstraße 2\, 32049 Herford
URL:https://www.chancenreich-herford.de/veranstaltung/workshop-in-der-nordwestdeutschen-philharmonie
LOCATION:Nordwestdeutsche Philharmonie\, Stiftbergstraße 2\, Herford\, 32049
CATEGORIES:Workshops
ORGANIZER;CN="Chancenreich Corinna Lueck":MAILTO:clueck@chancenreich-herford.de
END:VEVENT
END:VCALENDAR