BEGIN:VCALENDAR
VERSION:2.0
PRODID:-//Chancenreich Herford - ECPv6.8.2.1//NONSGML v1.0//EN
CALSCALE:GREGORIAN
METHOD:PUBLISH
X-WR-CALNAME:Chancenreich Herford
X-ORIGINAL-URL:https://www.chancenreich-herford.de
X-WR-CALDESC:Veranstaltungen für Chancenreich Herford
REFRESH-INTERVAL;VALUE=DURATION:PT1H
X-Robots-Tag:noindex
X-PUBLISHED-TTL:PT1H
BEGIN:VTIMEZONE
TZID:UTC
BEGIN:STANDARD
TZOFFSETFROM:+0000
TZOFFSETTO:+0000
TZNAME:UTC
DTSTART:20240101T000000
END:STANDARD
END:VTIMEZONE
BEGIN:VEVENT
DTSTART;TZID=UTC:20260422T104500
DTEND;TZID=UTC:20260422T121500
DTSTAMP:20260423T092121
CREATED:20260105T112337Z
LAST-MODIFIED:20260105T112337Z
UID:10001615-1776854700-1776860100@www.chancenreich-herford.de
SUMMARY:26.13.250 FuN - Baby
DESCRIPTION:“FuN“ steht für „Familie und Nachbarschaft“. Und FuN-Baby ist der Elternkurs für Mütter oder Väter mit Babys und Kleinkindern bis eineinhalb Jahre. \nAn acht Terminen können Sie ganz praktisch Erfahrungen im Umgang mit Ihrem Kind sammeln. Die Treffen haben eine feste Struktur – zum Programm gehören bei jedem Termin eine Eltern-Kind-Einheit (z. B. Spiele zur Wahrnehmungs- oder Bewegungsförderung) und eine Gesprächsrunde. Zum Kursabschluss findet i.d.R. ein kleiner gemeinsamer Imbiss statt. \nAnmeldung: Über die AWO-Webseite\, bitte Link (siehe unten) anklicken! \nWichtig: \nDer Kurs findet nicht in den Ferien oder an Feiertagen statt.
URL:https://www.chancenreich-herford.de/veranstaltung/26-13-250-fun-baby/2026-04-22
LOCATION:Türkische Moschee\, Bielefelder Str. 62-64\, Herford\, 32052
CATEGORIES:FuN-Baby,Kurse
END:VEVENT
BEGIN:VEVENT
DTSTART;TZID=UTC:20260422T090000
DTEND;TZID=UTC:20260422T103000
DTSTAMP:20260423T092121
CREATED:20260105T111449Z
LAST-MODIFIED:20260105T111449Z
UID:10001597-1776848400-1776853800@www.chancenreich-herford.de
SUMMARY:26.13.240 FuN - Baby
DESCRIPTION:„FuN“ steht für „Familie und Nachbarschaft“. Und FuN-Baby ist der Elternkurs für Mütter oder Väter mit Babys und Kleinkindern bis eineinhalb Jahre. \nAn acht Terminen können Sie ganz praktisch Erfahrungen im Umgang mit Ihrem Kind sammeln. Die Treffen haben eine feste Struktur – zum Programm gehören bei jedem Termin eine Eltern-Kind-Einheit (z. B. Spiele zur Wahrnehmungs- oder Bewegungsförderung) und eine Gesprächsrunde. Zum Kursabschluss findet i.d.R. ein kleiner gemeinsamer Imbiss statt. \nAnmeldung: Über die AWO-Webseite\, bitte Link (siehe unten) anklicken! \nWichtig: \nDer Kurs findet nicht in den Ferien oder an Feiertagen statt.
URL:https://www.chancenreich-herford.de/veranstaltung/26-13-240-fun-baby/2026-04-22
LOCATION:Türkische Moschee\, Bielefelder Str. 62-64\, Herford\, 32052
CATEGORIES:FuN-Baby,Kurse
END:VEVENT
BEGIN:VEVENT
DTSTART;TZID=UTC:20260325T104500
DTEND;TZID=UTC:20260325T121500
DTSTAMP:20260423T092121
CREATED:20251114T093238Z
LAST-MODIFIED:20251114T093238Z
UID:10001384-1774435500-1774440900@www.chancenreich-herford.de
SUMMARY:26.13.150 FuN- Baby
DESCRIPTION:„FuN“ steht für „Familie und Nachbarschaft“. Und FuN-Baby ist der Elternkurs für Mütter oder Väter mit Babys und Kleinkindern bis eineinhalb Jahre. \nAn acht Terminen können Sie ganz praktisch Erfahrungen im Umgang mit Ihrem Kind sammeln. Die Treffen haben eine feste Struktur – zum Programm gehören bei jedem Termin eine Eltern-Kind-Einheit (z. B. Spiele zur Wahrnehmungs- oder Bewegungsförderung) und eine Gesprächsrunde. Zum Kursabschluss findet i.d.R. ein kleiner gemeinsamer Imbiss statt. \nAnmeldung: Über die AWO-Webseite\, bitte Link (siehe unten) anklicken! \nWichtig: \nDer Kurs findet nicht in den Ferien oder an Feiertagen statt.
URL:https://www.chancenreich-herford.de/veranstaltung/26-13-150-fun-baby/2026-03-25
LOCATION:Türkische Moschee\, Bielefelder Str. 62-64\, Herford\, 32052
CATEGORIES:FuN-Baby,Kurse
END:VEVENT
BEGIN:VEVENT
DTSTART;TZID=UTC:20260325T090000
DTEND;TZID=UTC:20260325T103000
DTSTAMP:20260423T092121
CREATED:20251114T092909Z
LAST-MODIFIED:20251114T092909Z
UID:10001376-1774429200-1774434600@www.chancenreich-herford.de
SUMMARY:26.13.140 FuN - Baby
DESCRIPTION:„FuN“ steht für „Familie und Nachbarschaft“. Und FuN-Baby ist der Elternkurs für Mütter oder Väter mit Babys und Kleinkindern bis eineinhalb Jahre. \nAn acht Terminen können Sie ganz praktisch Erfahrungen im Umgang mit Ihrem Kind sammeln. Die Treffen haben eine feste Struktur – zum Programm gehören bei jedem Termin eine Eltern-Kind-Einheit (z. B. Spiele zur Wahrnehmungs- oder Bewegungsförderung) und eine Gesprächsrunde. Zum Kursabschluss findet i.d.R. ein kleiner gemeinsamer Imbiss statt. \nAnmeldung: Über die AWO-Webseite\, bitte Link (siehe unten) anklicken! \nWichtig: \nDer Kurs findet nicht in den Ferien oder an Feiertagen statt.
URL:https://www.chancenreich-herford.de/veranstaltung/26-13-140-fun-baby/2026-03-25
LOCATION:Türkische Moschee\, Bielefelder Str. 62-64\, Herford\, 32052
CATEGORIES:FuN-Baby,Kurse
END:VEVENT
BEGIN:VEVENT
DTSTART;TZID=UTC:20251022T104500
DTEND;TZID=UTC:20251022T121500
DTSTAMP:20260423T092121
CREATED:20250514T135943Z
LAST-MODIFIED:20250807T143129Z
UID:10001307-1761129900-1761135300@www.chancenreich-herford.de
SUMMARY:25.13.350 FuN - Baby
DESCRIPTION:„FuN“ steht für „Familie und Nachbarschaft“. Und FuN-Baby ist der Elternkurs für Mütter oder Väter mit Babys und Kleinkindern bis eineinhalb Jahre. \nAn acht Terminen können Sie ganz praktisch Erfahrungen im Umgang mit Ihrem Kind sammeln. Die Treffen haben eine feste Struktur – zum Programm gehören bei jedem Termin eine Eltern-Kind-Einheit (z. B. Spiele zur Wahrnehmungs- oder Bewegungsförderung) und eine Gesprächsrunde. Zum Kursabschluss findet i.d.R. ein kleiner gemeinsamer Imbiss statt. \nAnmeldung: Über die AWO-Webseite\, bitte Link (siehe unten) anklicken! \nWichtig: \nDer Kurs findet nicht in den Ferien oder an Feiertagen statt.
URL:https://www.chancenreich-herford.de/veranstaltung/25-13-350-fun-baby/2025-10-22
LOCATION:Türkische Moschee\, Bielefelder Str. 62-64\, Herford\, 32052
CATEGORIES:FuN-Baby,Kurse
END:VEVENT
BEGIN:VEVENT
DTSTART;TZID=UTC:20251022T090000
DTEND;TZID=UTC:20251022T103000
DTSTAMP:20260423T092121
CREATED:20250514T135514Z
LAST-MODIFIED:20250807T142854Z
UID:10001300-1761123600-1761129000@www.chancenreich-herford.de
SUMMARY:25.13.340 FuN - Baby
DESCRIPTION:„FuN“ steht für „Familie und Nachbarschaft“. Und FuN-Baby ist der Elternkurs für Mütter oder Väter mit Babys und Kleinkindern bis eineinhalb Jahre. \nAn acht Terminen können Sie ganz praktisch Erfahrungen im Umgang mit Ihrem Kind sammeln. Die Treffen haben eine feste Struktur – zum Programm gehören bei jedem Termin eine Eltern-Kind-Einheit (z. B. Spiele zur Wahrnehmungs- oder Bewegungsförderung) und eine Gesprächsrunde. Zum Kursabschluss findet i.d.R. ein kleiner gemeinsamer Imbiss statt. \nAnmeldung: Über die AWO-Webseite\, bitte Link (siehe unten) anklicken! \nWichtig: \nDer Kurs findet nicht in den Ferien oder an Feiertagen statt.
URL:https://www.chancenreich-herford.de/veranstaltung/25-13-340-fun-baby/2025-10-22
LOCATION:Türkische Moschee\, Bielefelder Str. 62-64\, Herford\, 32052
CATEGORIES:FuN-Baby,Kurse
END:VEVENT
BEGIN:VEVENT
DTSTART;TZID=UTC:20250402T104500
DTEND;TZID=UTC:20250402T121500
DTSTAMP:20260423T092121
CREATED:20241110T121446Z
LAST-MODIFIED:20241129T102722Z
UID:10000905-1743590700-1743596100@www.chancenreich-herford.de
SUMMARY:FuN-Baby von 0-18 Monaten
DESCRIPTION:„FuN“ steht für „Familie und Nachbarschaft“. Und FuN-Baby ist der Elternkurs für Mütter oder Väter mit Babys und Kleinkindern bis eineinhalb Jahre. \nAn acht Terminen können Sie ganz praktisch Erfahrungen im Umgang mit Ihrem Kind sammeln. Die Treffen haben eine feste Struktur – zum Programm gehören bei jedem Termin eine Eltern-Kind-Einheit (z. B. Spiele zur Wahrnehmungs- oder Bewegungsförderung) und eine Gesprächsrunde. Zum Kursabschluss findet i.d.R. ein kleiner gemeinsamer Imbiss statt. \n  \nAnmeldung: Über die AWO-Webseite\, bitte Link (siehe unten) anklicken! \nWichtig: \nDer Kurs findet nicht in den Ferien oder an Feiertagen statt.
URL:https://www.chancenreich-herford.de/veranstaltung/fun-baby-von-0-18-monaten-3/2025-04-02
LOCATION:Türkische Moschee\, Bielefelder Str. 62-64\, Herford\, 32052
CATEGORIES:FuN-Baby,Kurse
END:VEVENT
BEGIN:VEVENT
DTSTART;TZID=UTC:20250402T090000
DTEND;TZID=UTC:20250402T103000
DTSTAMP:20260423T092121
CREATED:20241110T121509Z
LAST-MODIFIED:20241129T102654Z
UID:10000906-1743584400-1743589800@www.chancenreich-herford.de
SUMMARY:FuN-Baby von 0-18 Monaten
DESCRIPTION:„FuN“ steht für „Familie und Nachbarschaft“. Und FuN-Baby ist der Elternkurs für Mütter oder Väter mit Babys und Kleinkindern bis eineinhalb Jahre. \nAn acht Terminen können Sie ganz praktisch Erfahrungen im Umgang mit Ihrem Kind sammeln. Die Treffen haben eine feste Struktur – zum Programm gehören bei jedem Termin eine Eltern-Kind-Einheit (z. B. Spiele zur Wahrnehmungs- oder Bewegungsförderung) und eine Gesprächsrunde. Zum Kursabschluss findet i.d.R. ein kleiner gemeinsamer Imbiss statt. \n  \nAnmeldung: Über die AWO-Webseite\, bitte Link (siehe unten) anklicken! \nWichtig: \nDer Kurs findet nicht in den Ferien oder an Feiertagen statt.
URL:https://www.chancenreich-herford.de/veranstaltung/fun-baby-von-0-18-monaten-4/2025-04-02
LOCATION:Türkische Moschee\, Bielefelder Str. 62-64\, Herford\, 32052
CATEGORIES:FuN-Baby,Kurse
END:VEVENT
BEGIN:VEVENT
DTSTART;TZID=UTC:20241007T100000
DTEND;TZID=UTC:20241007T113000
DTSTAMP:20260423T092121
CREATED:20240823T093023Z
LAST-MODIFIED:20241202T093516Z
UID:10000354-1728295200-1728300600@www.chancenreich-herford.de
SUMMARY:FuN-Baby von 0-18 Monaten (Elternkurs 8x) – 1. Baustein
DESCRIPTION:Elternkurs ab dem 07.10.2024  – 8 Termine \n„FuN“ steht für „Familie und Nachbarschaft“. Und FuN-Baby ist der Elternkurs für Mütter oder Väter mit Babys und Kleinkindern bis eineinhalb Jahre. \nAn acht Terminen können Sie ganz praktisch Erfahrungen im Umgang mit Ihrem Kind sammeln. Die Treffen haben eine feste Struktur – zum Programm gehören bei jedem Termin eine Eltern-Kind-Einheit (z. B. Spiele zur Wahrnehmungs- oder Bewegungsförderung) und eine Gesprächsrunde. Zum Kursabschluss findet i.d.R. ein kleiner gemeinsamer Imbiss statt. \n  \nAnmeldung: Über die AWO-Webseite\, bitte Link (siehe unten) anklicken! \nWichtig: \nDer Kurs findet nicht in den Ferien oder an Feiertagen statt.
URL:https://www.chancenreich-herford.de/veranstaltung/fun-baby-von-0-18-monaten-elternkurs-8x-1-baustein-10
LOCATION:Türkische Moschee\, Bielefelder Str. 62-64\, Herford\, 32052
CATEGORIES:FuN-Baby,Kurse
END:VEVENT
END:VCALENDAR